BEGIN:VCALENDAR
VERSION:2.0
PRODID:-//NADI Felda Pasoh 1 - ECPv6.15.13.1//NONSGML v1.0//EN
CALSCALE:GREGORIAN
METHOD:PUBLISH
X-WR-CALNAME:NADI Felda Pasoh 1
X-ORIGINAL-URL:https://feldapasoh1.nadi.my
X-WR-CALDESC:Events for NADI Felda Pasoh 1
REFRESH-INTERVAL;VALUE=DURATION:PT1H
X-Robots-Tag:noindex
X-PUBLISHED-TTL:PT1H
BEGIN:VTIMEZONE
TZID:Asia/Kuala_Lumpur
BEGIN:STANDARD
TZOFFSETFROM:+0800
TZOFFSETTO:+0800
TZNAME:+08
DTSTART:20250101T000000
END:STANDARD
END:VTIMEZONE
BEGIN:VEVENT
DTSTART;TZID=Asia/Kuala_Lumpur:20260328T100000
DTEND;TZID=Asia/Kuala_Lumpur:20260328T110000
DTSTAMP:20260424T070629
CREATED:20260327T085458Z
LAST-MODIFIED:20260327T085458Z
UID:8728-1774692000-1774695600@feldapasoh1.nadi.my
SUMMARY:WELBEING: PHY-WELL 'SENAWAN WARGA EMAS BMI TINGGI'
DESCRIPTION:Tarikh   : 28 Mac 2026 \nMasa    : 10:00 pagi- 11:00 pagi \nTempat : NADI Felda Pasoh Satu \nJika berminat untuk menyertai kelas kami\, sila hubungi petugas NADI Pengurus 016-3708755 atau Penolong Pengurus 019-2551967
URL:https://feldapasoh1.nadi.my/event/welbeing-phy-well-senawan-warga-emas-bmi-tinggi/
LOCATION:NADI Felda Pasoh 1
END:VEVENT
BEGIN:VEVENT
DTSTART;TZID=Asia/Kuala_Lumpur:20260328T150000
DTEND;TZID=Asia/Kuala_Lumpur:20260328T160000
DTSTAMP:20260424T070629
CREATED:20260327T085656Z
LAST-MODIFIED:20260327T085656Z
UID:8730-1774710000-1774713600@feldapasoh1.nadi.my
SUMMARY:DILEA : WEBINAR BERKALA MATEMATIK EDISI 5
DESCRIPTION:Tarikh   : 28 Mac 2026 \nMasa    : 3:00 petang- 4:00 petang \nTempat : NADI Felda Pasoh Satu \nJika berminat untuk menyertai kelas kami\, sila hubungi petugas NADI Pengurus 016-3708755 atau Penolong Pengurus 019-2551967
URL:https://feldapasoh1.nadi.my/event/dilea-webinar-berkala-matematik-edisi-5/
LOCATION:NADI Felda Pasoh 1
END:VEVENT
BEGIN:VEVENT
DTSTART;TZID=Asia/Kuala_Lumpur:20260328T160000
DTEND;TZID=Asia/Kuala_Lumpur:20260328T170000
DTSTAMP:20260424T070629
CREATED:20260327T085800Z
LAST-MODIFIED:20260327T085800Z
UID:8732-1774713600-1774717200@feldapasoh1.nadi.my
SUMMARY:E-SPORT : PODCAST 15
DESCRIPTION:Tarikh   : 28 Mac 2026 \nMasa    : 4:00 petang- 5:00 petang \nTempat : NADI Felda Pasoh Satu \nJika berminat untuk menyertai kelas kami\, sila hubungi petugas NADI Pengurus 016-3708755 atau Penolong Pengurus 019-2551967
URL:https://feldapasoh1.nadi.my/event/e-sport-podcast-15/
LOCATION:NADI Felda Pasoh 1
END:VEVENT
END:VCALENDAR