BEGIN:VCALENDAR
VERSION:2.0
PRODID:-//NADI Felda Pasoh 1 - ECPv6.15.13.1//NONSGML v1.0//EN
CALSCALE:GREGORIAN
METHOD:PUBLISH
X-WR-CALNAME:NADI Felda Pasoh 1
X-ORIGINAL-URL:https://feldapasoh1.nadi.my
X-WR-CALDESC:Events for NADI Felda Pasoh 1
REFRESH-INTERVAL;VALUE=DURATION:PT1H
X-Robots-Tag:noindex
X-PUBLISHED-TTL:PT1H
BEGIN:VTIMEZONE
TZID:Asia/Kuala_Lumpur
BEGIN:STANDARD
TZOFFSETFROM:+0800
TZOFFSETTO:+0800
TZNAME:+08
DTSTART:20250101T000000
END:STANDARD
END:VTIMEZONE
BEGIN:VEVENT
DTSTART;TZID=Asia/Kuala_Lumpur:20260404T100000
DTEND;TZID=Asia/Kuala_Lumpur:20260404T113000
DTSTAMP:20260423T023758
CREATED:20260403T100124Z
LAST-MODIFIED:20260403T100124Z
UID:8754-1775296800-1775302200@feldapasoh1.nadi.my
SUMMARY:WEBINAR ATAS TALIAN : BIJAK KEWANGAN
DESCRIPTION:Tarikh   : 04 April 2026 \nMasa    : 10:00 pagi – 11:30 pagi \nTempat : NADI Felda Pasoh Satu \nJika berminat untuk menyertai kelas kami\, sila hubungi petugas NADI Pengurus 016-3708755 atau Penolong Pengurus 019-2551967
URL:https://feldapasoh1.nadi.my/event/webinar-atas-talian-bijak-kewangan/
LOCATION:Padang Awam Felda Pasoh Empat
END:VEVENT
BEGIN:VEVENT
DTSTART;TZID=Asia/Kuala_Lumpur:20260404T120000
DTEND;TZID=Asia/Kuala_Lumpur:20260404T123000
DTSTAMP:20260423T023758
CREATED:20260403T095815Z
LAST-MODIFIED:20260403T095815Z
UID:8750-1775304000-1775305800@feldapasoh1.nadi.my
SUMMARY:KOMUNIKASI DALAM PASUKAN E-SUKAN
DESCRIPTION:Tarikh   : 04 April 2026 \nMasa    : 12:00 tengahari – 12:30 tengahari \nTempat : NADI Felda Pasoh Satu \nJika berminat untuk menyertai kelas kami\, sila hubungi petugas NADI Pengurus 016-3708755 atau Penolong Pengurus 019-2551967
URL:https://feldapasoh1.nadi.my/event/komunikasi-dalam-pasukan-e-sukan/
LOCATION:NADI Felda Pasoh 1
END:VEVENT
END:VCALENDAR