BEGIN:VCALENDAR
VERSION:2.0
PRODID:-//NADI Felda Pasoh 1 - ECPv6.15.13.1//NONSGML v1.0//EN
CALSCALE:GREGORIAN
METHOD:PUBLISH
X-WR-CALNAME:NADI Felda Pasoh 1
X-ORIGINAL-URL:https://feldapasoh1.nadi.my
X-WR-CALDESC:Events for NADI Felda Pasoh 1
REFRESH-INTERVAL;VALUE=DURATION:PT1H
X-Robots-Tag:noindex
X-PUBLISHED-TTL:PT1H
BEGIN:VTIMEZONE
TZID:Asia/Kuala_Lumpur
BEGIN:STANDARD
TZOFFSETFROM:+0800
TZOFFSETTO:+0800
TZNAME:+08
DTSTART:20250101T000000
END:STANDARD
END:VTIMEZONE
BEGIN:VEVENT
DTSTART;TZID=Asia/Kuala_Lumpur:20260421T100000
DTEND;TZID=Asia/Kuala_Lumpur:20260421T110000
DTSTAMP:20260423T134026
CREATED:20260417T070930Z
LAST-MODIFIED:20260417T070930Z
UID:8958-1776765600-1776769200@feldapasoh1.nadi.my
SUMMARY:NADI NURTURE EKELAS USAHAWAN - MODUL 3: AI UNTUK MENCIPTA KANDUNGAN
DESCRIPTION:Tarikh   : 21 April 2026 \nMasa    : 10:00 pagi – 11:00 pagi \nTempat : NADI Felda Pasoh Satu \nJika berminat untuk menyertai kelas kami\, sila hubungi petugas NADI Pengurus 016-3708755 atau Penolong Pengurus 019-2551967
URL:https://feldapasoh1.nadi.my/event/nadi-nurture-ekelas-usahawan-modul-3-ai-untuk-mencipta-kandungan/
LOCATION:NADI Felda Pasoh 1
END:VEVENT
END:VCALENDAR