BEGIN:VCALENDAR
VERSION:2.0
PRODID:-//NADI Felda Pasoh 1 - ECPv6.15.13.1//NONSGML v1.0//EN
CALSCALE:GREGORIAN
METHOD:PUBLISH
X-WR-CALNAME:NADI Felda Pasoh 1
X-ORIGINAL-URL:https://feldapasoh1.nadi.my
X-WR-CALDESC:Events for NADI Felda Pasoh 1
REFRESH-INTERVAL;VALUE=DURATION:PT1H
X-Robots-Tag:noindex
X-PUBLISHED-TTL:PT1H
BEGIN:VTIMEZONE
TZID:Asia/Kuala_Lumpur
BEGIN:STANDARD
TZOFFSETFROM:+0800
TZOFFSETTO:+0800
TZNAME:+08
DTSTART:20250101T000000
END:STANDARD
END:VTIMEZONE
BEGIN:VEVENT
DTSTART;TZID=Asia/Kuala_Lumpur:20260422T110000
DTEND;TZID=Asia/Kuala_Lumpur:20260422T120000
DTSTAMP:20260422T171747
CREATED:20260417T071318Z
LAST-MODIFIED:20260417T071318Z
UID:8960-1776855600-1776859200@feldapasoh1.nadi.my
SUMMARY:KELAS SLS MAHIR JAHIT: POUCH BAG COMEL BERSAMA CIKGU WAWA
DESCRIPTION:Tarikh   : 22 April 2026 \nMasa    : 11.15 pagi – 12.00 tengah hari \nTempat : NADI Felda Pasoh Satu \nJika berminat untuk menyertai kelas kami\, sila hubungi petugas NADI Pengurus 016-3708755 atau Penolong Pengurus 019-2551967
URL:https://feldapasoh1.nadi.my/event/kelas-sls-mahir-jahit-pouch-bag-comel-bersama-cikgu-wawa/
LOCATION:NADI Felda Pasoh 1
END:VEVENT
BEGIN:VEVENT
DTSTART;TZID=Asia/Kuala_Lumpur:20260422T120000
DTEND;TZID=Asia/Kuala_Lumpur:20260422T130000
DTSTAMP:20260422T171747
CREATED:20260417T071425Z
LAST-MODIFIED:20260417T071425Z
UID:8962-1776859200-1776862800@feldapasoh1.nadi.my
SUMMARY:KELAS SLS MAHIR JAHIT: COASTER FABRIK HANDMADE BERSAMA CIKGU SUE
DESCRIPTION:Tarikh   : 22 April 2026 \nMasa    : 12.05 – 12.50 tengah hari \nTempat : NADI Felda Pasoh Satu \nJika berminat untuk menyertai kelas kami\, sila hubungi petugas NADI Pengurus 016-3708755 atau Penolong Pengurus 019-2551967
URL:https://feldapasoh1.nadi.my/event/kelas-sls-mahir-jahit-coaster-fabrik-handmade-bersama-cikgu-sue/
LOCATION:NADI Felda Pasoh 1
END:VEVENT
END:VCALENDAR