BEGIN:VCALENDAR
VERSION:2.0
PRODID:-//NADI Felda Pasoh 1 - ECPv6.15.13.1//NONSGML v1.0//EN
CALSCALE:GREGORIAN
METHOD:PUBLISH
X-WR-CALNAME:NADI Felda Pasoh 1
X-ORIGINAL-URL:https://feldapasoh1.nadi.my
X-WR-CALDESC:Events for NADI Felda Pasoh 1
REFRESH-INTERVAL;VALUE=DURATION:PT1H
X-Robots-Tag:noindex
X-PUBLISHED-TTL:PT1H
BEGIN:VTIMEZONE
TZID:Asia/Kuala_Lumpur
BEGIN:STANDARD
TZOFFSETFROM:+0800
TZOFFSETTO:+0800
TZNAME:+08
DTSTART:20250101T000000
END:STANDARD
END:VTIMEZONE
BEGIN:VEVENT
DTSTART;TZID=Asia/Kuala_Lumpur:20260425T090000
DTEND;TZID=Asia/Kuala_Lumpur:20260425T130000
DTSTAMP:20260425T025306
CREATED:20260424T084604Z
LAST-MODIFIED:20260424T084604Z
UID:9009-1777107600-1777122000@feldapasoh1.nadi.my
SUMMARY:E-SUKAN : COMPOSITING & EDITING
DESCRIPTION:Tarikh   : 25 April 2026 \nMasa    : 9.00 pagi – 1.00 petang \nTempat : NADI Felda Pasoh Satu \nJika berminat untuk menyertai kelas kami\, sila hubungi petugas NADI Pengurus 016-3708755 atau Penolong Pengurus 019-2551967
URL:https://feldapasoh1.nadi.my/event/e-sukan-compositing-editing/
LOCATION:NADI Felda Pasoh 1
END:VEVENT
BEGIN:VEVENT
DTSTART;TZID=Asia/Kuala_Lumpur:20260425T100000
DTEND;TZID=Asia/Kuala_Lumpur:20260425T113000
DTSTAMP:20260425T025306
CREATED:20260424T083905Z
LAST-MODIFIED:20260424T083905Z
UID:9005-1777111200-1777116600@feldapasoh1.nadi.my
SUMMARY:NADI KIDVENTURE : WEBINAR ATAS TALIAN - PEMASARAN 2
DESCRIPTION:Tarikh   : 25 April 2026 \nMasa    : 10.00 pagi – 11.30 pagi \nTempat : NADI Felda Pasoh Satu \nJika berminat untuk menyertai kelas kami\, sila hubungi petugas NADI Pengurus 016-3708755 atau Penolong Pengurus 019-2551967
URL:https://feldapasoh1.nadi.my/event/nadi-kidventure-webinar-atas-talian-pemasaran-2/
LOCATION:NADI Felda Pasoh 1
END:VEVENT
BEGIN:VEVENT
DTSTART;TZID=Asia/Kuala_Lumpur:20260425T143000
DTEND;TZID=Asia/Kuala_Lumpur:20260425T153000
DTSTAMP:20260425T025306
CREATED:20260424T084302Z
LAST-MODIFIED:20260424T084302Z
UID:9007-1777127400-1777131000@feldapasoh1.nadi.my
SUMMARY:DILEA (PROGRAM KHAS) : WEBINAR BIJAK BERBICARA : LATIHAN SAJAK SIRI 1
DESCRIPTION:Tarikh   : 25 April 2026 \nMasa    : 2.30 petang – 3.30 petang \nTempat : NADI Felda Pasoh Satu \nJika berminat untuk menyertai kelas kami\, sila hubungi petugas NADI Pengurus 016-3708755 atau Penolong Pengurus 019-2551967
URL:https://feldapasoh1.nadi.my/event/dilea-program-khas-webinar-bijak-berbicara-latihan-sajak-siri-1/
LOCATION:NADI Felda Pasoh 1
END:VEVENT
END:VCALENDAR