BEGIN:VCALENDAR
VERSION:2.0
PRODID:-//NADI Felda Pasoh 1 - ECPv6.15.13.1//NONSGML v1.0//EN
CALSCALE:GREGORIAN
METHOD:PUBLISH
X-WR-CALNAME:NADI Felda Pasoh 1
X-ORIGINAL-URL:https://feldapasoh1.nadi.my
X-WR-CALDESC:Events for NADI Felda Pasoh 1
REFRESH-INTERVAL;VALUE=DURATION:PT1H
X-Robots-Tag:noindex
X-PUBLISHED-TTL:PT1H
BEGIN:VTIMEZONE
TZID:UTC
BEGIN:STANDARD
TZOFFSETFROM:+0000
TZOFFSETTO:+0000
TZNAME:UTC
DTSTART:20230101T000000
END:STANDARD
END:VTIMEZONE
BEGIN:VEVENT
DTSTART;TZID=UTC:20241129T090000
DTEND;TZID=UTC:20241129T100000
DTSTAMP:20260422T151422
CREATED:20241123T202500Z
LAST-MODIFIED:20241123T202500Z
UID:5039-1732870800-1732874400@feldapasoh1.nadi.my
SUMMARY:NADI WELLBEING
DESCRIPTION:Tarikh   : 29 November 2024 \nMasa    : 9.00 pagi – 10.00 pagi \nTempat : NADI Felda Pasoh 1 \nJika berminat untuk menyertai kelas kami\, sila hubungi petugas NADI Pengurus 016-3708755 atau Penolong Pengurus 019-2551967
URL:https://feldapasoh1.nadi.my/event/nadi-wellbeing-4/
CATEGORIES:DEFAULT
END:VEVENT
BEGIN:VEVENT
DTSTART;TZID=UTC:20241126T080000
DTEND;TZID=UTC:20241126T090000
DTSTAMP:20260422T151422
CREATED:20241123T202144Z
LAST-MODIFIED:20241123T202144Z
UID:5037-1732608000-1732611600@feldapasoh1.nadi.my
SUMMARY:ADVOKASI KLIK DENGAN BIJAK
DESCRIPTION:Tarikh   : 26 November 2024 \nMasa    : 8.00 pagi – 9.00 pagi \nTempat : SK Sungai Buloh \nJika berminat untuk menyertai kelas kami\, sila hubungi petugas NADI Pengurus 016-3708755 atau Penolong Pengurus 019-2551967
URL:https://feldapasoh1.nadi.my/event/advokasi-klik-dengan-bijak-13/
CATEGORIES:DEFAULT
END:VEVENT
BEGIN:VEVENT
DTSTART;TZID=UTC:20241125T080000
DTEND;TZID=UTC:20241125T090000
DTSTAMP:20260422T151422
CREATED:20241123T202057Z
LAST-MODIFIED:20241123T202057Z
UID:5036-1732521600-1732525200@feldapasoh1.nadi.my
SUMMARY:ADVOKASI KLIK DENGAN BIJAK
DESCRIPTION:Tarikh   : 25 November 2024 \nMasa    : 8.00 pagi – 9.00 pagi \nTempat : SK Peradong \nJika berminat untuk menyertai kelas kami\, sila hubungi petugas NADI Pengurus 016-3708755 atau Penolong Pengurus 019-2551967
URL:https://feldapasoh1.nadi.my/event/advokasi-klik-dengan-bijak-12/
CATEGORIES:DEFAULT
END:VEVENT
BEGIN:VEVENT
DTSTART;TZID=UTC:20241124T080000
DTEND;TZID=UTC:20241124T170000
DTSTAMP:20260422T151422
CREATED:20241123T201416Z
LAST-MODIFIED:20241123T201416Z
UID:5032-1732435200-1732467600@feldapasoh1.nadi.my
SUMMARY:ADVOKASI KLIK DENGAN BIJAK
DESCRIPTION:Tarikh   : 19 November 2024 \nMasa    : 8.00 pagi – 9.00 pagi \nTempat : SMK Teriang Hilir \nJika berminat untuk menyertai kelas kami\, sila hubungi petugas NADI Pengurus 016-3708755 atau Penolong Pengurus 019-2551967
URL:https://feldapasoh1.nadi.my/event/advokasi-klik-dengan-bijak-8/
CATEGORIES:DEFAULT
END:VEVENT
BEGIN:VEVENT
DTSTART;TZID=UTC:20241124T080000
DTEND;TZID=UTC:20241124T170000
DTSTAMP:20260422T151422
CREATED:20241123T201125Z
LAST-MODIFIED:20241123T201125Z
UID:5029-1732435200-1732467600@feldapasoh1.nadi.my
SUMMARY:ADVOKASI KLIK DENGAN BIJAK
DESCRIPTION:Tarikh   : 15 November 2024 \nMasa    : 8.00 pagi – 9.00 pagi \nTempat : S K Simpang Durian \nJika berminat untuk menyertai kelas kami\, sila hubungi petugas NADI Pengurus 016-3708755 atau Penolong Pengurus 019-2551967
URL:https://feldapasoh1.nadi.my/event/advokasi-klik-dengan-bijak-5/
CATEGORIES:DEFAULT
END:VEVENT
BEGIN:VEVENT
DTSTART;TZID=UTC:20241122T080000
DTEND;TZID=UTC:20241122T090000
DTSTAMP:20260422T151422
CREATED:20241123T202001Z
LAST-MODIFIED:20241123T202001Z
UID:5035-1732262400-1732266000@feldapasoh1.nadi.my
SUMMARY:ADVOKASI KLIK DENGAN BIJAK
DESCRIPTION:Tarikh   : 22 November 2024 \nMasa    : 8.00 pagi – 9.00 pagi \nTempat : SK Durian Tipus \nJika berminat untuk menyertai kelas kami\, sila hubungi petugas NADI Pengurus 016-3708755 atau Penolong Pengurus 019-2551967
URL:https://feldapasoh1.nadi.my/event/advokasi-klik-dengan-bijak-11/
CATEGORIES:DEFAULT
END:VEVENT
BEGIN:VEVENT
DTSTART;TZID=UTC:20241120T150000
DTEND;TZID=UTC:20241120T160000
DTSTAMP:20260422T151422
CREATED:20241123T201829Z
LAST-MODIFIED:20241123T201829Z
UID:5034-1732114800-1732118400@feldapasoh1.nadi.my
SUMMARY:ADVOKASI KLIK DENGAN BIJAK
DESCRIPTION:Tarikh   : 20 November 2024 \nMasa    : 3.00 petang – 4.00 petang \nTempat : SMA Dato’ Haji Tan Ahmad \nJika berminat untuk menyertai kelas kami\, sila hubungi petugas NADI Pengurus 016-3708755 atau Penolong Pengurus 019-2551967
URL:https://feldapasoh1.nadi.my/event/advokasi-klik-dengan-bijak-10/
CATEGORIES:DEFAULT
END:VEVENT
BEGIN:VEVENT
DTSTART;TZID=UTC:20241120T110000
DTEND;TZID=UTC:20241120T120000
DTSTAMP:20260422T151422
CREATED:20241123T201556Z
LAST-MODIFIED:20241123T201556Z
UID:5033-1732100400-1732104000@feldapasoh1.nadi.my
SUMMARY:ADVOKASI KLIK DENGAN BIJAK
DESCRIPTION:Tarikh   : 20 November 2024 \nMasa    : 11.00 pagi –12.00 t/hari \nTempat : SK Geylang Terusan \nJika berminat untuk menyertai kelas kami\, sila hubungi petugas NADI Pengurus 016-3708755 atau Penolong Pengurus 019-2551967
URL:https://feldapasoh1.nadi.my/event/advokasi-klik-dengan-bijak-9/
CATEGORIES:DEFAULT
END:VEVENT
BEGIN:VEVENT
DTSTART;TZID=UTC:20241118T080000
DTEND;TZID=UTC:20241118T090000
DTSTAMP:20260422T151422
CREATED:20241123T201327Z
LAST-MODIFIED:20241123T201327Z
UID:5031-1731916800-1731920400@feldapasoh1.nadi.my
SUMMARY:ADVOKASI KLIK DENGAN BIJAK
DESCRIPTION:Tarikh   : 18 November 2024 \nMasa    : 8.00 pagi – 9.00 pagi \nTempat : SK Petaseh \nJika berminat untuk menyertai kelas kami\, sila hubungi petugas NADI Pengurus 016-3708755 atau Penolong Pengurus 019-2551967
URL:https://feldapasoh1.nadi.my/event/advokasi-klik-dengan-bijak-7/
CATEGORIES:DEFAULT
END:VEVENT
BEGIN:VEVENT
DTSTART;TZID=UTC:20241115T080000
DTEND;TZID=UTC:20241115T090000
DTSTAMP:20260422T151422
CREATED:20241123T201207Z
LAST-MODIFIED:20241123T201207Z
UID:5030-1731657600-1731661200@feldapasoh1.nadi.my
SUMMARY:ADVOKASI KLIK DENGAN BIJAK
DESCRIPTION:Tarikh   : 15 November 2024 \nMasa    : 8.00 pagi – 9.00 pagi \nTempat : SK Simpang Durian \nJika berminat untuk menyertai kelas kami\, sila hubungi petugas NADI Pengurus 016-3708755 atau Penolong Pengurus 019-2551967
URL:https://feldapasoh1.nadi.my/event/advokasi-klik-dengan-bijak-6/
CATEGORIES:DEFAULT
END:VEVENT
BEGIN:VEVENT
DTSTART;TZID=UTC:20241113T100000
DTEND;TZID=UTC:20241113T110000
DTSTAMP:20260422T151422
CREATED:20241123T201003Z
LAST-MODIFIED:20241123T201003Z
UID:5028-1731492000-1731495600@feldapasoh1.nadi.my
SUMMARY:ADVOKASI KLIK DENGAN BIJAK
DESCRIPTION:Tarikh   : 13 November 2024 \nMasa    : 10.00 pagi – 11.00 pagi \nTempat : SJKTamil Ladang Pertang \nJika berminat untuk menyertai kelas kami\, sila hubungi petugas NADI Pengurus 016-3708755 atau Penolong Pengurus 019-2551967
URL:https://feldapasoh1.nadi.my/event/advokasi-klik-dengan-bijak-4/
CATEGORIES:DEFAULT
END:VEVENT
BEGIN:VEVENT
DTSTART;TZID=UTC:20241113T073000
DTEND;TZID=UTC:20241113T083000
DTSTAMP:20260422T151422
CREATED:20241123T200856Z
LAST-MODIFIED:20241123T200856Z
UID:5027-1731483000-1731486600@feldapasoh1.nadi.my
SUMMARY:ADVOKASI KLIK DENGAN BIJAK
DESCRIPTION:Tarikh   : 13 November 2024 \nMasa    : 7.30 pagi – 8.30 pagi \nTempat : SMK Pertang \nJika berminat untuk menyertai kelas kami\, sila hubungi petugas NADI Pengurus 016-3708755 atau Penolong Pengurus 019-2551967
URL:https://feldapasoh1.nadi.my/event/advokasi-klik-dengan-bijak-3/
CATEGORIES:DEFAULT
END:VEVENT
BEGIN:VEVENT
DTSTART;TZID=UTC:20241110T090000
DTEND;TZID=UTC:20241110T100000
DTSTAMP:20260422T151422
CREATED:20241123T200613Z
LAST-MODIFIED:20241123T200613Z
UID:5026-1731229200-1731232800@feldapasoh1.nadi.my
SUMMARY:NADI WELLBEING
DESCRIPTION:Tarikh   : 10 November 2024 \nMasa    : 9.00 pagi – 10.00 pagi \nTempat : NADI Felda Pasoh 1 \nJika berminat untuk menyertai kelas kami\, sila hubungi petugas NADI Pengurus 016-3708755 atau Penolong Pengurus 019-2551967
URL:https://feldapasoh1.nadi.my/event/nadi-wellbeing-2/
CATEGORIES:DEFAULT
END:VEVENT
BEGIN:VEVENT
DTSTART;TZID=UTC:20241109T080000
DTEND;TZID=UTC:20241109T100000
DTSTAMP:20260422T151422
CREATED:20241123T200510Z
LAST-MODIFIED:20241123T200510Z
UID:5025-1731139200-1731146400@feldapasoh1.nadi.my
SUMMARY:ADVOKASI KLIK DENGAN BIJAK
DESCRIPTION:Tarikh   : 9 November 2024 \nMasa    : 8.00 pagi – 10.00 pagi \nTempat : NADI Felda Pasoh 1 \nJika berminat untuk menyertai kelas kami\, sila hubungi petugas NADI Pengurus 016-3708755 atau Penolong Pengurus 019-2551967
URL:https://feldapasoh1.nadi.my/event/advokasi-klik-dengan-bijak-2/
CATEGORIES:DEFAULT
END:VEVENT
BEGIN:VEVENT
DTSTART;TZID=UTC:20241106T080000
DTEND;TZID=UTC:20241106T100000
DTSTAMP:20260422T151422
CREATED:20241123T200408Z
LAST-MODIFIED:20241123T200408Z
UID:5024-1730880000-1730887200@feldapasoh1.nadi.my
SUMMARY:ADVOKASI KLIK DENGAN BIJAK
DESCRIPTION:Tarikh   : 6 November 2024 \nMasa    : 8.00 pagi – 10.00 pagi \nTempat : SJKC Simpang Pertang \nJika berminat untuk menyertai kelas kami\, sila hubungi petugas NADI Pengurus 016-3708755 atau Penolong Pengurus 019-2551967
URL:https://feldapasoh1.nadi.my/event/advokasi-klik-dengan-bijak/
CATEGORIES:DEFAULT
END:VEVENT
BEGIN:VEVENT
DTSTART;TZID=UTC:20241104T150000
DTEND;TZID=UTC:20241104T160000
DTSTAMP:20260422T151422
CREATED:20241123T200019Z
LAST-MODIFIED:20241123T200019Z
UID:5023-1730732400-1730736000@feldapasoh1.nadi.my
SUMMARY:NADI WELLBEING
DESCRIPTION:Tarikh   : 4 November 2024 \nMasa    : 3.00 petang – 4.00 petang \nTempat : NADI Felda Pasoh Satu \nJika berminat untuk menyertai kelas kami\, sila hubungi petugas NADI Pengurus 016-3708755 atau Penolong Pengurus 019-2551967
URL:https://feldapasoh1.nadi.my/event/nadi-wellbeing/
CATEGORIES:DEFAULT
END:VEVENT
BEGIN:VEVENT
DTSTART;TZID=UTC:20241023T090000
DTEND;TZID=UTC:20241023T110000
DTSTAMP:20260422T151422
CREATED:20240929T200207Z
LAST-MODIFIED:20240929T200207Z
UID:5022-1729674000-1729681200@feldapasoh1.nadi.my
SUMMARY:LATIHAN KEUSAHAWANAN : PENDAFTARAN SSM
DESCRIPTION:Tarikh   : 23 Oktober 2024 \nMasa    : 9.00 pagi – 11.00 pagi \nTempat : NADI Felda Pasoh Satu \nJika berminat untuk menyertai kelas kami\, sila hubungi petugas NADI Pengurus 016-3708755 atau Penolong Pengurus 019-2551967
URL:https://feldapasoh1.nadi.my/event/latihan-keusahawanan-pendaftaran-ssm-4/
CATEGORIES:DEFAULT
END:VEVENT
BEGIN:VEVENT
DTSTART;TZID=UTC:20241022T090000
DTEND;TZID=UTC:20241022T110000
DTSTAMP:20260422T151422
CREATED:20240929T200101Z
LAST-MODIFIED:20240929T200101Z
UID:5021-1729587600-1729594800@feldapasoh1.nadi.my
SUMMARY:LATIHAN KEUSAHAWANAN : PERMOHONAN BANTUAN MUSIM TENGKUJUH (BMT) TAHUN 2024
DESCRIPTION:Tarikh   : 22 Oktober 2024 \nMasa    : 9.00 pagi – 11.00 pagi \nTempat : NADI Felda Pasoh Satu \nJika berminat untuk menyertai kelas kami\, sila hubungi petugas NADI Pengurus 016-3708755 atau Penolong Pengurus 019-2551967
URL:https://feldapasoh1.nadi.my/event/latihan-keusahawanan-permohonan-bantuan-musim-tengkujuh-bmt-tahun-2024/
CATEGORIES:DEFAULT
END:VEVENT
BEGIN:VEVENT
DTSTART;TZID=UTC:20241021T100000
DTEND;TZID=UTC:20241021T110000
DTSTAMP:20260422T151422
CREATED:20240929T195852Z
LAST-MODIFIED:20240929T195852Z
UID:5020-1729504800-1729508400@feldapasoh1.nadi.my
SUMMARY:LATIHAN KEUSAHAWANAN : SISTEM E-PAYROLL (MAJIKAN)
DESCRIPTION:Tarikh   : 21 Oktober 2024 \nMasa    : 10.00 pagi – 11.00 pagi \nTempat : NADI Felda Pasoh Satu \nJika berminat untuk menyertai kelas kami\, sila hubungi petugas NADI Pengurus 016-3708755 atau Penolong Pengurus 019-2551967
URL:https://feldapasoh1.nadi.my/event/latihan-keusahawanan-sistem-e-payroll-majikan/
CATEGORIES:DEFAULT
END:VEVENT
BEGIN:VEVENT
DTSTART;TZID=UTC:20241019T100000
DTEND;TZID=UTC:20241019T130000
DTSTAMP:20260422T151422
CREATED:20240929T195714Z
LAST-MODIFIED:20240929T195714Z
UID:5019-1729332000-1729342800@feldapasoh1.nadi.my
SUMMARY:STEM IOT: CABARAN BERGERAK MENEMBUSI KERTAS (WALKING THROUGH PAPER CHALLANGE)
DESCRIPTION:Tarikh   : 19 Oktober 2024 \nMasa    : 10.00 pagi – 1.00 petang \nTempat : NADI Felda Pasoh Satu \nJika berminat untuk menyertai kelas kami\, sila hubungi petugas NADI Pengurus 016-3708755 atau Penolong Pengurus 019-2551967
URL:https://feldapasoh1.nadi.my/event/stem-iot-cabaran-bergerak-menembusi-kertas-walking-through-paper-challange/
CATEGORIES:DEFAULT
END:VEVENT
BEGIN:VEVENT
DTSTART;TZID=UTC:20241017T120000
DTEND;TZID=UTC:20241017T130000
DTSTAMP:20260422T151422
CREATED:20240929T195538Z
LAST-MODIFIED:20240929T195538Z
UID:5018-1729166400-1729170000@feldapasoh1.nadi.my
SUMMARY:ASAS ICT: MENUKAR FORMAT DOKUMEN MENGGUNAKAN I LOVE PDF
DESCRIPTION:Tarikh   : 17 Oktober 2024 \nMasa    : 12.00 t/hari – 1.00 petang \nTempat : NADI Felda Pasoh Satu \nJika berminat untuk menyertai kelas kami\, sila hubungi petugas NADI Pengurus 016-3708755 atau Penolong Pengurus 019-2551967
URL:https://feldapasoh1.nadi.my/event/asas-ict-menukar-format-dokumen-menggunakan-i-love-pdf-2/
CATEGORIES:DEFAULT
END:VEVENT
BEGIN:VEVENT
DTSTART;TZID=UTC:20241016T100000
DTEND;TZID=UTC:20241016T130000
DTSTAMP:20260422T151422
CREATED:20240929T195328Z
LAST-MODIFIED:20240929T195328Z
UID:5017-1729072800-1729083600@feldapasoh1.nadi.my
SUMMARY:ASAS ICT : E-KERAJAAN : PERMOHONAN MYETAPP
DESCRIPTION:Tarikh   : 16 Oktober 2024 \nMasa    : 10.00 pagi – 1.00 petang \nTempat : NADI Felda Pasoh Satu \nJika berminat untuk menyertai kelas kami\, sila hubungi petugas NADI Pengurus 016-3708755 atau Penolong Pengurus 019-2551967
URL:https://feldapasoh1.nadi.my/event/asas-ict-e-kerajaan-permohonan-myetapp-3/
CATEGORIES:DEFAULT
END:VEVENT
BEGIN:VEVENT
DTSTART;TZID=UTC:20241015T110000
DTEND;TZID=UTC:20241015T120000
DTSTAMP:20260422T151422
CREATED:20240929T195208Z
LAST-MODIFIED:20240929T195208Z
UID:5016-1728990000-1728993600@feldapasoh1.nadi.my
SUMMARY:ASAS ICT : PERBANKAN INTERNET
DESCRIPTION:Tarikh   : 15 Oktober 2024 \nMasa    : 11.00 pagi – 12.00 t/hari \nTempat : NADI Felda Pasoh Satu \nJika berminat untuk menyertai kelas kami\, sila hubungi petugas NADI Pengurus 016-3708755 atau Penolong Pengurus 019-2551967
URL:https://feldapasoh1.nadi.my/event/asas-ict-perbankan-internet/
CATEGORIES:DEFAULT
END:VEVENT
BEGIN:VEVENT
DTSTART;TZID=UTC:20241014T100000
DTEND;TZID=UTC:20241014T120000
DTSTAMP:20260422T151422
CREATED:20240929T195106Z
LAST-MODIFIED:20240929T195106Z
UID:5015-1728900000-1728907200@feldapasoh1.nadi.my
SUMMARY:ASAS ICT : E-SISTEM PERMOHONAN BANTUAN MAINS
DESCRIPTION:Tarikh   : 14 Oktober 2024 \nMasa    : 10.00 pagi – 12.00 t/hari \nTempat : NADI Felda Pasoh Satu \nJika berminat untuk menyertai kelas kami\, sila hubungi petugas NADI Pengurus 016-3708755 atau Penolong Pengurus 019-2551967
URL:https://feldapasoh1.nadi.my/event/asas-ict-e-sistem-permohonan-bantuan-mains-2/
CATEGORIES:DEFAULT
END:VEVENT
BEGIN:VEVENT
DTSTART;TZID=UTC:20241013T100000
DTEND;TZID=UTC:20241013T120000
DTSTAMP:20260422T151422
CREATED:20240929T194930Z
LAST-MODIFIED:20240929T194930Z
UID:5014-1728813600-1728820800@feldapasoh1.nadi.my
SUMMARY:SOFT SKILL : SELF CONFIDENT (SING & DANCE)
DESCRIPTION:Tarikh   : 13 Oktober 2024 \nMasa    : 10.00 pagi – 12.00 t/hari \nTempat : NADI Felda Pasoh Satu \nJika berminat untuk menyertai kelas kami\, sila hubungi petugas NADI Pengurus 016-3708755 atau Penolong Pengurus 019-2551967
URL:https://feldapasoh1.nadi.my/event/soft-skill-self-confident-sing-dance/
CATEGORIES:DEFAULT
END:VEVENT
BEGIN:VEVENT
DTSTART;TZID=UTC:20241012T150000
DTEND;TZID=UTC:20241012T170000
DTSTAMP:20260422T151422
CREATED:20240929T194735Z
LAST-MODIFIED:20240929T194735Z
UID:5013-1728745200-1728752400@feldapasoh1.nadi.my
SUMMARY:STEM-IOT :  STRAW TOWER CHALLANGE
DESCRIPTION:Tarikh   : 12 Oktober 2024 \nMasa    : 3.00 petang – 5.00 petang \nTempat : NADI Felda Pasoh Satu \nJika berminat untuk menyertai kelas kami\, sila hubungi petugas NADI Pengurus 016-3708755 atau Penolong Pengurus 019-2551967
URL:https://feldapasoh1.nadi.my/event/stem-iot-straw-tower-challange/
CATEGORIES:DEFAULT
END:VEVENT
BEGIN:VEVENT
DTSTART;TZID=UTC:20241008T150000
DTEND;TZID=UTC:20241008T160000
DTSTAMP:20260422T151422
CREATED:20240929T194632Z
LAST-MODIFIED:20240929T194632Z
UID:5012-1728399600-1728403200@feldapasoh1.nadi.my
SUMMARY:E-PEMBELAJARAN : ENGLISH PAST TENSE
DESCRIPTION:Tarikh   : 8 Oktober 2024 \nMasa    : 3.00 petang – 4.00 petang \nTempat : NADI Felda Pasoh Satu \nJika berminat untuk menyertai kelas kami\, sila hubungi petugas NADI Pengurus 016-3708755 atau Penolong Pengurus 019-2551967
URL:https://feldapasoh1.nadi.my/event/e-pembelajaran-english-past-tense/
CATEGORIES:DEFAULT
END:VEVENT
BEGIN:VEVENT
DTSTART;TZID=UTC:20241007T150000
DTEND;TZID=UTC:20241007T170000
DTSTAMP:20260422T151422
CREATED:20240929T194452Z
LAST-MODIFIED:20240929T194452Z
UID:5011-1728313200-1728320400@feldapasoh1.nadi.my
SUMMARY:E-PEMBELAJARAN : TUTORIAL PENGELUARAN AKAUN FLEKSIBEL KWSP
DESCRIPTION:Tarikh   : 7 Oktober 2024 \nMasa    : 3.00 petang – 5.00 petang \nTempat : NADI Felda Pasoh Satu \nJika berminat untuk menyertai kelas kami\, sila hubungi petugas NADI Pengurus 016-3708755 atau Penolong Pengurus 019-2551967
URL:https://feldapasoh1.nadi.my/event/e-pembelajaran-tutorial-pengeluaran-akaun-fleksibel-kwsp/
CATEGORIES:DEFAULT
END:VEVENT
BEGIN:VEVENT
DTSTART;TZID=UTC:20241006T150000
DTEND;TZID=UTC:20241006T170000
DTSTAMP:20260422T151422
CREATED:20240929T194257Z
LAST-MODIFIED:20240929T194257Z
UID:5010-1728226800-1728234000@feldapasoh1.nadi.my
SUMMARY:SOFT SKILL : PENULISAN RESUME
DESCRIPTION:Tarikh   : 6 Oktober 2024 \nMasa    : 3.00 petang – 5.00 petang \nTempat : NADI Felda Pasoh Satu \nJika berminat untuk menyertai kelas kami\, sila hubungi petugas NADI Pengurus 016-3708755 atau Penolong Pengurus 019-2551967
URL:https://feldapasoh1.nadi.my/event/soft-skill-penulisan-resume/
CATEGORIES:DEFAULT
END:VEVENT
BEGIN:VEVENT
DTSTART;TZID=UTC:20240925T140000
DTEND;TZID=UTC:20240925T170000
DTSTAMP:20260422T151422
CREATED:20240902T193820Z
LAST-MODIFIED:20240902T193820Z
UID:4741-1727272800-1727283600@feldapasoh1.nadi.my
SUMMARY:KELAS KEUSAHAWANAN : PERMOHONAN KEBENARAN KHAS CIDB
DESCRIPTION:Tarikh   : 25 September 2024 \nMasa    : 2.00 petang – 5.00 petang \nTempat : NADI Felda Pasoh Satu \nJika berminat untuk menyertai kelas kami\, sila hubungi petugas NADI Pengurus 016-3708755 atau Penolong Pengurus 019-2551967
URL:https://feldapasoh1.nadi.my/event/kelas-keusahawanan-permohonan-kebenaran-khas-cidb/
CATEGORIES:DEFAULT
END:VEVENT
END:VCALENDAR