BEGIN:VCALENDAR
VERSION:2.0
PRODID:-//NADI Felda Pasoh 1 - ECPv6.15.13.1//NONSGML v1.0//EN
CALSCALE:GREGORIAN
METHOD:PUBLISH
X-WR-CALNAME:NADI Felda Pasoh 1
X-ORIGINAL-URL:https://feldapasoh1.nadi.my
X-WR-CALDESC:Events for NADI Felda Pasoh 1
REFRESH-INTERVAL;VALUE=DURATION:PT1H
X-Robots-Tag:noindex
X-PUBLISHED-TTL:PT1H
BEGIN:VTIMEZONE
TZID:Asia/Kuala_Lumpur
BEGIN:STANDARD
TZOFFSETFROM:+0800
TZOFFSETTO:+0800
TZNAME:+08
DTSTART:20250101T000000
END:STANDARD
END:VTIMEZONE
BEGIN:VEVENT
DTSTART;TZID=Asia/Kuala_Lumpur:20260307T140000
DTEND;TZID=Asia/Kuala_Lumpur:20260307T150000
DTSTAMP:20260426T064141
CREATED:20260306T071239Z
LAST-MODIFIED:20260306T071239Z
UID:8564-1772892000-1772895600@feldapasoh1.nadi.my
SUMMARY:TINY TECHIES – KELAS ULANGKAJI ATAS TALIAN SIRI 3: MICRO:BIT &ROBOTIK
DESCRIPTION:Tarikh   : 07 Mac 2026 \nMasa    : 2:00 petang – 3:00 petang \nTempat : NADI Felda Pasoh Satu \nJika berminat untuk menyertai kelas kami\, sila hubungi petugas NADI Pengurus 016-3708755 atau Penolong Pengurus 019-2551967
URL:https://feldapasoh1.nadi.my/event/tiny-techies-kelas-ulangkaji-atas-talian-siri-3-microbit-robotik/
LOCATION:NADI Felda Pasoh 1
END:VEVENT
BEGIN:VEVENT
DTSTART;TZID=Asia/Kuala_Lumpur:20260307T150000
DTEND;TZID=Asia/Kuala_Lumpur:20260307T160000
DTSTAMP:20260426T064141
CREATED:20260306T071036Z
LAST-MODIFIED:20260306T071036Z
UID:8562-1772895600-1772899200@feldapasoh1.nadi.my
SUMMARY:PERATURAN\, PENALTI & FAIR PLAY DALAM MLBB
DESCRIPTION:Tarikh   : 07 Mac 2026 \nMasa    : 3:00 petang – 4:00 petang \nTempat : NADI Felda Pasoh Satu \nJika berminat untuk menyertai kelas kami\, sila hubungi petugas NADI Pengurus 016-3708755 atau Penolong Pengurus 019-2551967
URL:https://feldapasoh1.nadi.my/event/peraturan-penalti-fair-play-dalam-mlbb/
LOCATION:NADI Felda Pasoh 1
END:VEVENT
BEGIN:VEVENT
DTSTART;TZID=Asia/Kuala_Lumpur:20260307T150000
DTEND;TZID=Asia/Kuala_Lumpur:20260307T160000
DTSTAMP:20260426T064141
CREATED:20260306T071348Z
LAST-MODIFIED:20260306T071348Z
UID:8566-1772895600-1772899200@feldapasoh1.nadi.my
SUMMARY:TINY TECHIES – KELAS ULANGKAJI ATAS TALIAN SIRI 3: PYTHON\, HTML & SQL
DESCRIPTION:Tarikh   : 07 Mac 2026 \nMasa    : 3:00 petang – 4:00 petang \nTempat : NADI Felda Pasoh Satu \nJika berminat untuk menyertai kelas kami\, sila hubungi petugas NADI Pengurus 016-3708755 atau Penolong Pengurus 019-2551967
URL:https://feldapasoh1.nadi.my/event/tiny-techies-kelas-ulangkaji-atas-talian-siri-3-python-html-sql/
LOCATION:NADI Felda Pasoh 1
END:VEVENT
BEGIN:VEVENT
DTSTART;TZID=Asia/Kuala_Lumpur:20260308T110000
DTEND;TZID=Asia/Kuala_Lumpur:20260308T120000
DTSTAMP:20260426T064141
CREATED:20260306T071532Z
LAST-MODIFIED:20260306T071532Z
UID:8568-1772967600-1772971200@feldapasoh1.nadi.my
SUMMARY:MAJLIS IHYA RAMADAN : JOM MENGAJI @ NADI (KHATAM AL-QURAN)
DESCRIPTION:Tarikh   : 08 Mac 2026 \nMasa    : 11:00 pagi – 12:00 t/hari \nTempat : NADI Felda Pasoh Satu \nJika berminat untuk menyertai kelas kami\, sila hubungi petugas NADI Pengurus 016-3708755 atau Penolong Pengurus 019-2551967
URL:https://feldapasoh1.nadi.my/event/majlis-ihya-ramadan-jom-mengaji-nadi-khatam-al-quran/
LOCATION:NADI Felda Pasoh 1
END:VEVENT
BEGIN:VEVENT
DTSTART;TZID=Asia/Kuala_Lumpur:20260310T113000
DTEND;TZID=Asia/Kuala_Lumpur:20260310T123000
DTSTAMP:20260426T064141
CREATED:20260306T071651Z
LAST-MODIFIED:20260306T071651Z
UID:8570-1773142200-1773145800@feldapasoh1.nadi.my
SUMMARY:SLS Q1 MAHIR JAHIT : ALTERATION: BESAR JADI MUAT\, KECIL JADI SELESA
DESCRIPTION:Tarikh   : 10 Mac 2026 \nMasa    : 11:30 pagi – 12:30 t/hari \nTempat : NADI Felda Pasoh Satu \nJika berminat untuk menyertai kelas kami\, sila hubungi petugas NADI Pengurus 016-3708755 atau Penolong Pengurus 019-2551967
URL:https://feldapasoh1.nadi.my/event/sls-q1-mahir-jahit-alteration-besar-jadi-muat-kecil-jadi-selesa/
LOCATION:NADI Felda Pasoh 1
END:VEVENT
BEGIN:VEVENT
DTSTART;TZID=Asia/Kuala_Lumpur:20260311T113000
DTEND;TZID=Asia/Kuala_Lumpur:20260311T123000
DTSTAMP:20260426T064141
CREATED:20260306T072305Z
LAST-MODIFIED:20260306T072305Z
UID:8572-1773228600-1773232200@feldapasoh1.nadi.my
SUMMARY:SLS Q1 MAHIR FOTO : DARI SMARTPHONE KE SPOTLIGHT: JOURNEY MOBILEGRAPHY
DESCRIPTION:Tarikh   : 11 Mac 2026 \nMasa    : 11:30 pagi – 12:30 t/hari \nTempat : NADI Felda Pasoh Satu \nJika berminat untuk menyertai kelas kami\, sila hubungi petugas NADI Pengurus 016-3708755 atau Penolong Pengurus 019-2551967
URL:https://feldapasoh1.nadi.my/event/sls-q1-mahir-foto-dari-smartphone-ke-spotlight-journey-mobilegraphy/
LOCATION:NADI Felda Pasoh 1
END:VEVENT
BEGIN:VEVENT
DTSTART;TZID=Asia/Kuala_Lumpur:20260312T113000
DTEND;TZID=Asia/Kuala_Lumpur:20260312T123000
DTSTAMP:20260426T064141
CREATED:20260306T072400Z
LAST-MODIFIED:20260306T072400Z
UID:8574-1773315000-1773318600@feldapasoh1.nadi.my
SUMMARY:SLS Q1 MAHIR MASAK EDISI AIDILFITRI 2026 BERSAMA CHEF FLORENCE TAN
DESCRIPTION:Tarikh   : 12 Mac 2026 \nMasa    : 11:30 pagi – 12:30 t/hari \nTempat : NADI Felda Pasoh Satu \nJika berminat untuk menyertai kelas kami\, sila hubungi petugas NADI Pengurus 016-3708755 atau Penolong Pengurus 019-2551967
URL:https://feldapasoh1.nadi.my/event/sls-q1-mahir-masak-edisi-aidilfitri-2026-bersama-chef-florence-tan/
LOCATION:NADI Felda Pasoh 1
END:VEVENT
BEGIN:VEVENT
DTSTART;TZID=Asia/Kuala_Lumpur:20260313T093000
DTEND;TZID=Asia/Kuala_Lumpur:20260313T170000
DTSTAMP:20260426T064141
CREATED:20260312T083707Z
LAST-MODIFIED:20260312T083707Z
UID:8644-1773394200-1773421200@feldapasoh1.nadi.my
SUMMARY:MAHIR MASAK\, FOTO\, JAHIT & GAJET
DESCRIPTION:Tarikh   : 13 Mac 2026 \nMasa    : 9:30 pagi- 5:30 petang \nTempat : NADI Felda Pasoh Satu \nJika berminat untuk menyertai kelas kami\, sila hubungi petugas NADI Pengurus 016-3708755 atau Penolong Pengurus 019-2551967
URL:https://feldapasoh1.nadi.my/event/mahir-masak-foto-jahit-gajet/
LOCATION:NADI Felda Pasoh 1
END:VEVENT
BEGIN:VEVENT
DTSTART;TZID=Asia/Kuala_Lumpur:20260313T103000
DTEND;TZID=Asia/Kuala_Lumpur:20260313T113000
DTSTAMP:20260426T064141
CREATED:20260312T083356Z
LAST-MODIFIED:20260312T083356Z
UID:8638-1773397800-1773401400@feldapasoh1.nadi.my
SUMMARY:NADIPRENEUR/EMPOWHER : RECORD WEBINAR - FINANCIAL PLANNING
DESCRIPTION:Tarikh   : 13 Mac 2026 \nMasa    : 10:30 pagi – 11:30 pagi \nTempat : NADI Felda Pasoh Satu \nJika berminat untuk menyertai kelas kami\, sila hubungi petugas NADI Pengurus 016-3708755 atau Penolong Pengurus 019-2551967
URL:https://feldapasoh1.nadi.my/event/nadipreneur-empowher-record-webinar-financial-planning/
LOCATION:NADI Felda Pasoh 1
END:VEVENT
BEGIN:VEVENT
DTSTART;TZID=Asia/Kuala_Lumpur:20260313T103000
DTEND;TZID=Asia/Kuala_Lumpur:20260313T113000
DTSTAMP:20260426T064141
CREATED:20260312T083616Z
LAST-MODIFIED:20260312T083616Z
UID:8642-1773397800-1773401400@feldapasoh1.nadi.my
SUMMARY:WELLBEING : WEBINAR - KESIHATAN ALAT SUIT WANITA
DESCRIPTION:Tarikh   : 13 Mac 2026 \nMasa    : 10:30 pagi- 11:30 pagi \nTempat : NADI Felda Pasoh Satu \nJika berminat untuk menyertai kelas kami\, sila hubungi petugas NADI Pengurus 016-3708755 atau Penolong Pengurus 019-2551967
URL:https://feldapasoh1.nadi.my/event/wellbeing-webinar-kesihatan-alat-suit-wanita/
LOCATION:NADI Felda Pasoh 1
END:VEVENT
BEGIN:VEVENT
DTSTART;TZID=Asia/Kuala_Lumpur:20260313T150000
DTEND;TZID=Asia/Kuala_Lumpur:20260313T163000
DTSTAMP:20260426T064141
CREATED:20260312T082752Z
LAST-MODIFIED:20260312T082752Z
UID:8636-1773414000-1773419400@feldapasoh1.nadi.my
SUMMARY:CYBERSECURITY : WEBINAR ON DEMAND
DESCRIPTION:Tarikh   : 13 Mac 2026 \nMasa    : 3:30 petang – 4:00 petang \nTempat : NADI Felda Pasoh Satu \nJika berminat untuk menyertai kelas kami\, sila hubungi petugas NADI Pengurus 016-3708755 atau Penolong Pengurus 019-2551967
URL:https://feldapasoh1.nadi.my/event/cybersecurity-webinar-on-demand/
LOCATION:NADI Felda Pasoh 1
END:VEVENT
BEGIN:VEVENT
DTSTART;TZID=Asia/Kuala_Lumpur:20260313T153000
DTEND;TZID=Asia/Kuala_Lumpur:20260313T163000
DTSTAMP:20260426T064141
CREATED:20260312T083506Z
LAST-MODIFIED:20260312T083506Z
UID:8640-1773415800-1773419400@feldapasoh1.nadi.my
SUMMARY:DILEA : DUIDANCE TUITION BM\, BI TINGKATAN 5
DESCRIPTION:Tarikh   : 13 Mac 2026 \nMasa    : 3:30 petang- 4:30 petang \nTempat : NADI Felda Pasoh Satu \nJika berminat untuk menyertai kelas kami\, sila hubungi petugas NADI Pengurus 016-3708755 atau Penolong Pengurus 019-2551967
URL:https://feldapasoh1.nadi.my/event/dilea-duidance-tuition-bm-bi-tingkatan-5/
LOCATION:NADI Felda Pasoh 1
END:VEVENT
BEGIN:VEVENT
DTSTART;TZID=Asia/Kuala_Lumpur:20260314T080000
DTEND;TZID=Asia/Kuala_Lumpur:20260314T150000
DTSTAMP:20260426T064141
CREATED:20260312T084024Z
LAST-MODIFIED:20260312T084024Z
UID:8650-1773475200-1773500400@feldapasoh1.nadi.my
SUMMARY:BAZAR RAYA NADI 2026
DESCRIPTION:Tarikh   : 14 Mac 2026 \nMasa    : 8:00 pagi- 3:00 petang \nTempat : NADI Felda Pasoh Satu \nJika berminat untuk menyertai kelas kami\, sila hubungi petugas NADI Pengurus 016-3708755 atau Penolong Pengurus 019-2551967
URL:https://feldapasoh1.nadi.my/event/bazar-raya-nadi-2026/
LOCATION:NADI Felda Pasoh 1
END:VEVENT
BEGIN:VEVENT
DTSTART;TZID=Asia/Kuala_Lumpur:20260314T093000
DTEND;TZID=Asia/Kuala_Lumpur:20260314T103000
DTSTAMP:20260426T064141
CREATED:20260312T083833Z
LAST-MODIFIED:20260312T083833Z
UID:8646-1773480600-1773484200@feldapasoh1.nadi.my
SUMMARY:WELLBEING : PHY-WELL - SENAMAN UNTUK BMI TINGGI
DESCRIPTION:Tarikh   : 14 Mac 2026 \nMasa    : 9:30 pagi- 10:30 pagi \nTempat : NADI Felda Pasoh Satu \nJika berminat untuk menyertai kelas kami\, sila hubungi petugas NADI Pengurus 016-3708755 atau Penolong Pengurus 019-2551967
URL:https://feldapasoh1.nadi.my/event/wellbeing-phy-well-senaman-untuk-bmi-tinggi/
LOCATION:NADI Felda Pasoh 1
END:VEVENT
BEGIN:VEVENT
DTSTART;TZID=Asia/Kuala_Lumpur:20260314T093000
DTEND;TZID=Asia/Kuala_Lumpur:20260314T103000
DTSTAMP:20260426T064141
CREATED:20260312T083937Z
LAST-MODIFIED:20260312T083937Z
UID:8648-1773480600-1773484200@feldapasoh1.nadi.my
SUMMARY:KIDVENTURE : WEBINAR - BUSINESS IDEA & MINI BUSINESS PLAN 2
DESCRIPTION:Tarikh   : 14 Mac 2026 \nMasa    : 9:30 pagi- 10:30 pagi \nTempat : NADI Felda Pasoh Satu \nJika berminat untuk menyertai kelas kami\, sila hubungi petugas NADI Pengurus 016-3708755 atau Penolong Pengurus 019-2551967
URL:https://feldapasoh1.nadi.my/event/kidventure-webinar-business-idea-mini-business-plan-2-2/
LOCATION:NADI Felda Pasoh 1
END:VEVENT
BEGIN:VEVENT
DTSTART;TZID=Asia/Kuala_Lumpur:20260328T100000
DTEND;TZID=Asia/Kuala_Lumpur:20260328T110000
DTSTAMP:20260426T064141
CREATED:20260327T085458Z
LAST-MODIFIED:20260327T085458Z
UID:8728-1774692000-1774695600@feldapasoh1.nadi.my
SUMMARY:WELBEING: PHY-WELL 'SENAWAN WARGA EMAS BMI TINGGI'
DESCRIPTION:Tarikh   : 28 Mac 2026 \nMasa    : 10:00 pagi- 11:00 pagi \nTempat : NADI Felda Pasoh Satu \nJika berminat untuk menyertai kelas kami\, sila hubungi petugas NADI Pengurus 016-3708755 atau Penolong Pengurus 019-2551967
URL:https://feldapasoh1.nadi.my/event/welbeing-phy-well-senawan-warga-emas-bmi-tinggi/
LOCATION:NADI Felda Pasoh 1
END:VEVENT
BEGIN:VEVENT
DTSTART;TZID=Asia/Kuala_Lumpur:20260328T150000
DTEND;TZID=Asia/Kuala_Lumpur:20260328T160000
DTSTAMP:20260426T064141
CREATED:20260327T085656Z
LAST-MODIFIED:20260327T085656Z
UID:8730-1774710000-1774713600@feldapasoh1.nadi.my
SUMMARY:DILEA : WEBINAR BERKALA MATEMATIK EDISI 5
DESCRIPTION:Tarikh   : 28 Mac 2026 \nMasa    : 3:00 petang- 4:00 petang \nTempat : NADI Felda Pasoh Satu \nJika berminat untuk menyertai kelas kami\, sila hubungi petugas NADI Pengurus 016-3708755 atau Penolong Pengurus 019-2551967
URL:https://feldapasoh1.nadi.my/event/dilea-webinar-berkala-matematik-edisi-5/
LOCATION:NADI Felda Pasoh 1
END:VEVENT
BEGIN:VEVENT
DTSTART;TZID=Asia/Kuala_Lumpur:20260328T160000
DTEND;TZID=Asia/Kuala_Lumpur:20260328T170000
DTSTAMP:20260426T064141
CREATED:20260327T085800Z
LAST-MODIFIED:20260327T085800Z
UID:8732-1774713600-1774717200@feldapasoh1.nadi.my
SUMMARY:E-SPORT : PODCAST 15
DESCRIPTION:Tarikh   : 28 Mac 2026 \nMasa    : 4:00 petang- 5:00 petang \nTempat : NADI Felda Pasoh Satu \nJika berminat untuk menyertai kelas kami\, sila hubungi petugas NADI Pengurus 016-3708755 atau Penolong Pengurus 019-2551967
URL:https://feldapasoh1.nadi.my/event/e-sport-podcast-15/
LOCATION:NADI Felda Pasoh 1
END:VEVENT
BEGIN:VEVENT
DTSTART;TZID=Asia/Kuala_Lumpur:20260329T160000
DTEND;TZID=Asia/Kuala_Lumpur:20260329T170000
DTSTAMP:20260426T064141
CREATED:20260327T085856Z
LAST-MODIFIED:20260327T085856Z
UID:8734-1774800000-1774803600@feldapasoh1.nadi.my
SUMMARY:E-SPORT : PODCAST EP 15
DESCRIPTION:Tarikh   : 29 Mac 2026 \nMasa    : 4:00 petang- 5:00 petang \nTempat : NADI Felda Pasoh Satu \nJika berminat untuk menyertai kelas kami\, sila hubungi petugas NADI Pengurus 016-3708755 atau Penolong Pengurus 019-2551967
URL:https://feldapasoh1.nadi.my/event/e-sport-podcast-ep-15/
LOCATION:NADI Felda Pasoh 1
END:VEVENT
END:VCALENDAR